BEGIN:VCALENDAR
VERSION:2.0
PRODID:spatie/icalendar-generator
DESCRIPTION:Events from Leahanne&amp;#039\;s Heritage Breads
X-WR-CALDESC:Events from Leahanne&amp;#039\;s Heritage Breads
REFRESH-INTERVAL;VALUE=DURATION:PT1440M
X-PUBLISHED-TTL:PT1440M
BEGIN:VTIMEZONE
TZID:America/New_York
BEGIN:DAYLIGHT
DTSTART:20250309T020000Z
TZOFFSETFROM:-0500
TZOFFSETTO:-0400
END:DAYLIGHT
BEGIN:STANDARD
DTSTART:20251102T020000Z
TZOFFSETFROM:-0400
TZOFFSETTO:-0500
END:STANDARD
BEGIN:DAYLIGHT
DTSTART:20260308T020000Z
TZOFFSETFROM:-0500
TZOFFSETTO:-0400
END:DAYLIGHT
END:VTIMEZONE
BEGIN:VTIMEZONE
TZID:UTC
BEGIN:STANDARD
DTSTART:20250725T193439Z
TZOFFSETFROM:+0000
TZOFFSETTO:+0000
END:STANDARD
END:VTIMEZONE
BEGIN:VEVENT
UID:18-6
DTSTAMP:20260421T193439Z
SUMMARY:Townsend Fall Festival
LOCATION:
ORGANIZER;CN=Leahanne's Heritage Breads:MAILTO:leahannesbreads@gmail.com
DTSTART;TZID=America/New_York:20250926T100000
DTEND;TZID=America/New_York:20250927T220000
X-ALT-DESC;FMTTYPE=TEXT/HTML:The foothills of the Smoky Mountains come to l
 ife with Bluegrass music\, arts and crafts\, time honored traditions and A
 ppalachian cooking at the Townsend in the Smokies Fall Festival\, Sept. 26
 -27\, 2025. The festival provides an atmosphere where family and friends o
 f all ages can partake in time-honored Appalachian traditions at a free co
 mmunity event.&amp;hellip\;
CATEGORIES:General
URL;VALUE=URI:https://leahannesbreads.com/mc-events/townsend-fall-festival/
METHOD:PUBLISH
END:VEVENT
END:VCALENDAR