BEGIN:VCALENDAR
VERSION:2.0
PRODID:spatie/icalendar-generator
DESCRIPTION:Events from Leahanne&amp;#039\;s Heritage Breads
X-WR-CALDESC:Events from Leahanne&amp;#039\;s Heritage Breads
REFRESH-INTERVAL;VALUE=DURATION:PT1440M
X-PUBLISHED-TTL:PT1440M
BEGIN:VTIMEZONE
TZID:America/New_York
BEGIN:DAYLIGHT
DTSTART:20250309T020000Z
TZOFFSETFROM:-0500
TZOFFSETTO:-0400
END:DAYLIGHT
BEGIN:STANDARD
DTSTART:20251102T020000Z
TZOFFSETFROM:-0400
TZOFFSETTO:-0500
END:STANDARD
BEGIN:DAYLIGHT
DTSTART:20260308T020000Z
TZOFFSETFROM:-0500
TZOFFSETTO:-0400
END:DAYLIGHT
END:VTIMEZONE
BEGIN:VTIMEZONE
TZID:UTC
BEGIN:STANDARD
DTSTART:20250725T193948Z
TZOFFSETFROM:+0000
TZOFFSETTO:+0000
END:STANDARD
END:VTIMEZONE
BEGIN:VEVENT
UID:15-3
DTSTAMP:20260421T193948Z
SUMMARY:Dandridge Farmers Market
LOCATION:Dandridge Farmers Market 214 W. Main Street  Dandridge TN 37725
ORGANIZER;CN=Leahanne's Heritage Breads:MAILTO:leahannesbreads@gmail.com
RRULE:FREQ=WEEKLY;UNTIL=20251025T000000Z
DTSTART;TZID=America/New_York:20251018T080000
DTEND;TZID=America/New_York:20251018T120000
X-ALT-DESC;FMTTYPE=TEXT/HTML:
CATEGORIES:General
URL;VALUE=URI:https://leahannesbreads.com/mc-events/dandridge-farmers-marke
 t/?mc_id=15
METHOD:PUBLISH
END:VEVENT
END:VCALENDAR