BEGIN:VCALENDAR
VERSION:2.0
PRODID:spatie/icalendar-generator
DESCRIPTION:Events from Leahanne&amp;#039\;s Heritage Breads
X-WR-CALDESC:Events from Leahanne&amp;#039\;s Heritage Breads
REFRESH-INTERVAL;VALUE=DURATION:PT1440M
X-PUBLISHED-TTL:PT1440M
BEGIN:VTIMEZONE
TZID:America/New_York
BEGIN:DAYLIGHT
DTSTART:20250309T020000Z
TZOFFSETFROM:-0500
TZOFFSETTO:-0400
END:DAYLIGHT
BEGIN:STANDARD
DTSTART:20251102T020000Z
TZOFFSETFROM:-0400
TZOFFSETTO:-0500
END:STANDARD
BEGIN:DAYLIGHT
DTSTART:20260308T020000Z
TZOFFSETFROM:-0500
TZOFFSETTO:-0400
END:DAYLIGHT
END:VTIMEZONE
BEGIN:VTIMEZONE
TZID:UTC
BEGIN:STANDARD
DTSTART:20250725T193805Z
TZOFFSETFROM:+0000
TZOFFSETTO:+0000
END:STANDARD
END:VTIMEZONE
BEGIN:VEVENT
UID:19-7
DTSTAMP:20260421T193805Z
SUMMARY:Wears Valley Fall Fest
LOCATION:
ORGANIZER;CN=Leahanne's Heritage Breads:MAILTO:leahannesbreads@gmail.com
DTSTART;TZID=America/New_York;VALUE=DATE:20251017
DTEND;TZID=America/New_York;VALUE=DATE:20251020
X-ALT-DESC;FMTTYPE=TEXT/HTML:OVER 200 CRAFTERS &amp;amp\; VENDORS. INCREDIBLE S
 OUTHERN FOOD VENDORS. ENTERTAINMENT ALL WEEKEND LONG. CHILDREN’S ACTIVIT
 IES. LIVE DEMONSTRATIONS. ANTIQUE TRACTORS. FUN FOR EVERYONE. TICKETS($5 p
 er person-4 years old &amp;amp\; above) AVAILABLE CLOSER TO THE EVENT.
CATEGORIES:General
URL;VALUE=URI:https://leahannesbreads.com/mc-events/wears-valley-fall-fest/
METHOD:PUBLISH
END:VEVENT
END:VCALENDAR