BEGIN:VCALENDAR
VERSION:2.0
PRODID:spatie/icalendar-generator
DESCRIPTION:Events from Leahanne&amp;#039\;s Heritage Breads
X-WR-CALDESC:Events from Leahanne&amp;#039\;s Heritage Breads
REFRESH-INTERVAL;VALUE=DURATION:PT1440M
X-PUBLISHED-TTL:PT1440M
BEGIN:VTIMEZONE
TZID:America/New_York
BEGIN:STANDARD
DTSTART:20251102T020000Z
TZOFFSETFROM:-0400
TZOFFSETTO:-0500
END:STANDARD
BEGIN:DAYLIGHT
DTSTART:20260308T020000Z
TZOFFSETFROM:-0500
TZOFFSETTO:-0400
END:DAYLIGHT
END:VTIMEZONE
BEGIN:VTIMEZONE
TZID:UTC
BEGIN:STANDARD
DTSTART:20250725T223141Z
TZOFFSETFROM:+0000
TZOFFSETTO:+0000
END:STANDARD
END:VTIMEZONE
BEGIN:VEVENT
UID:86-9
DTSTAMP:20260421T223141Z
SUMMARY:College Square Mall Fridays
LOCATION:
ORGANIZER;CN=Leahanne's Heritage Breads:MAILTO:leahannesbreads@gmail.com
RRULE:FREQ=WEEKLY;UNTIL=20251228T000000Z
DTSTART;TZID=America/New_York:20251226T150000
DTEND;TZID=America/New_York:20251226T180000
X-ALT-DESC;FMTTYPE=TEXT/HTML:Make sure to pre-order on the site and pick up
  at our location at College Square Mall! Come taste some of Leahanne's Her
 itage Breads at College Square Mall in Morristown\, TN Every Friday from 3
 :00 pm - 6:00 pm!
CATEGORIES:General
URL;VALUE=URI:https://leahannesbreads.com/mc-events/college-square-mall-fri
 days/?mc_id=86
METHOD:PUBLISH
END:VEVENT
END:VCALENDAR